BEGIN:VCALENDAR
VERSION:2.0
PRODID:-//eventon.com NONSGML v1.0//EN
CALSCALE:GREGORIAN
METHOD:PUBLISH
BEGIN:VEVENT
UID:69e73bd4d9b8a
DTSTAMP:20260421T085652Z
DTSTART:20250729T150000Z
DTEND:20250729T160000Z
LOCATION:
SUMMARY:brandRUSSO x Vendux - Social Media Strategy for Real-World Results
DESCRIPTION:Social media isnâ€™t just for influencers and B2C brandsâ€”itâ€
 ™s a powerful tool for manufacturers and industrial companies looking to in
 crease visibility\,  build trust\,  and drive leads. But what actually work
 s in a world of algorithms\,  content fatigue\,  and platform overload? Thi
 s session cuts through the fluff to deliver real-world strategies[..]\nhttp
 s://www.fidelitybankpower.com/events/brandrusso-x-vendux-social-media-strat
 egy-for-real-world-results/
URL:https://www.fidelitybankpower.com/events/brandrusso-x-vendux-social-media-strategy-for-real-world-results/
END:VEVENT
END:VCALENDAR