BEGIN:VCALENDAR
VERSION:2.0
PRODID:-//eventon.com NONSGML v1.0//EN
CALSCALE:GREGORIAN
METHOD:PUBLISH
BEGIN:VEVENT
UID:69e73d9653376
DTSTAMP:20260421T090422Z
DTSTART:20250516T170000Z
DTEND:20250516T193000Z
LOCATION:JLNO Headquarters
SUMMARY:POWER U Graduation Celebration
DESCRIPTION:Come celebrate the achievements of our first class of graduates
  at the POWER U Graduation Celebration! Join us at the Junior League of N
 ew Orleans for an afternoon of recognition and fun. This in-person event i
 s proudly presented by Fidelity Bank POWER and Landry Training. Guests wil
 l enjoy a delicious buffet lunch\,  sip on[..]\nhttps://www.fidelitybankpow
 er.com/events/power-u-graduation-celebration/
URL:https://www.fidelitybankpower.com/events/power-u-graduation-celebration/
END:VEVENT
END:VCALENDAR