BEGIN:VCALENDAR
VERSION:2.0
PRODID:-//eventon.com NONSGML v1.0//EN
CALSCALE:GREGORIAN
METHOD:PUBLISH
BEGIN:VEVENT
UID:69e73c9e3ffdd
DTSTAMP:20260421T090014Z
DTSTART:20240913T133000Z
DTEND:20240913T153000Z
LOCATION:Salon22 2407 Bienville Street
SUMMARY:Knowledge is POWER
DESCRIPTION:Knowledge is POWER Featuring keynote speaker Cristy Cali\,  own
 er of Cristy Cali Jewelry &nbsp; About Salon22 Salon22 is a membership-base
 d professional women’s club and idea hub connecting leaders\,  changemake
 rs\,  and disruptors. Diversity is at the forefront of their mission. Their
  membership reflects the demographics of New Orleans (and their leadership[
 ..]\nhttps://www.fidelitybankpower.com/events/kip-sept13/
URL:https://www.fidelitybankpower.com/events/kip-sept13/
END:VEVENT
END:VCALENDAR